BEGIN:VCALENDAR
VERSION:2.0
PRODID:-//DJ Seith - ECPv6.15.20//NONSGML v1.0//EN
CALSCALE:GREGORIAN
METHOD:PUBLISH
X-WR-CALNAME:DJ Seith
X-ORIGINAL-URL:https://djseith.com
X-WR-CALDESC:Events for DJ Seith
REFRESH-INTERVAL;VALUE=DURATION:PT1H
X-Robots-Tag:noindex
X-PUBLISHED-TTL:PT1H
BEGIN:VTIMEZONE
TZID:America/Halifax
BEGIN:DAYLIGHT
TZOFFSETFROM:-0400
TZOFFSETTO:-0300
TZNAME:ADT
DTSTART:20220313T060000
END:DAYLIGHT
BEGIN:STANDARD
TZOFFSETFROM:-0300
TZOFFSETTO:-0400
TZNAME:AST
DTSTART:20221106T050000
END:STANDARD
BEGIN:DAYLIGHT
TZOFFSETFROM:-0400
TZOFFSETTO:-0300
TZNAME:ADT
DTSTART:20230312T060000
END:DAYLIGHT
BEGIN:STANDARD
TZOFFSETFROM:-0300
TZOFFSETTO:-0400
TZNAME:AST
DTSTART:20231105T050000
END:STANDARD
BEGIN:DAYLIGHT
TZOFFSETFROM:-0400
TZOFFSETTO:-0300
TZNAME:ADT
DTSTART:20240310T060000
END:DAYLIGHT
BEGIN:STANDARD
TZOFFSETFROM:-0300
TZOFFSETTO:-0400
TZNAME:AST
DTSTART:20241103T050000
END:STANDARD
BEGIN:DAYLIGHT
TZOFFSETFROM:-0400
TZOFFSETTO:-0300
TZNAME:ADT
DTSTART:20250309T060000
END:DAYLIGHT
BEGIN:STANDARD
TZOFFSETFROM:-0300
TZOFFSETTO:-0400
TZNAME:AST
DTSTART:20251102T050000
END:STANDARD
BEGIN:DAYLIGHT
TZOFFSETFROM:-0400
TZOFFSETTO:-0300
TZNAME:ADT
DTSTART:20260308T060000
END:DAYLIGHT
BEGIN:STANDARD
TZOFFSETFROM:-0300
TZOFFSETTO:-0400
TZNAME:AST
DTSTART:20261101T050000
END:STANDARD
END:VTIMEZONE
BEGIN:VTIMEZONE
TZID:America/New_York
BEGIN:DAYLIGHT
TZOFFSETFROM:-0500
TZOFFSETTO:-0400
TZNAME:EDT
DTSTART:20240310T070000
END:DAYLIGHT
BEGIN:STANDARD
TZOFFSETFROM:-0400
TZOFFSETTO:-0500
TZNAME:EST
DTSTART:20241103T060000
END:STANDARD
BEGIN:DAYLIGHT
TZOFFSETFROM:-0500
TZOFFSETTO:-0400
TZNAME:EDT
DTSTART:20250309T070000
END:DAYLIGHT
BEGIN:STANDARD
TZOFFSETFROM:-0400
TZOFFSETTO:-0500
TZNAME:EST
DTSTART:20251102T060000
END:STANDARD
BEGIN:DAYLIGHT
TZOFFSETFROM:-0500
TZOFFSETTO:-0400
TZNAME:EDT
DTSTART:20260308T070000
END:DAYLIGHT
BEGIN:STANDARD
TZOFFSETFROM:-0400
TZOFFSETTO:-0500
TZNAME:EST
DTSTART:20261101T060000
END:STANDARD
END:VTIMEZONE
BEGIN:VEVENT
DTSTART;TZID=America/Halifax:20250308T140000
DTEND;TZID=America/Halifax:20250308T160000
DTSTAMP:20260423T100607
CREATED:20250205T132209Z
LAST-MODIFIED:20250205T132223Z
UID:5310-1741442400-1741449600@djseith.com
SUMMARY:True Taxi In Gentle Rain Release Party
DESCRIPTION:In celebration of the new release. The new album produced by DJ Seith is his most ambitious one yet. a story rap album sampled primarily from one jazz record\, released on a cassette tape that turns into a taxicab. Plus\, a limited-run companion colouring book by MyColourfulMesses. Come out and help your kinfolk launch it proper.
URL:https://djseith.com/event/true-taxi-in-gentle-rain-release-party-03-08/
LOCATION:Cafe4Good\, 326 Queen St. E\, Sault Ste. Marie\, Ontario\, P6A 1Z1\, Canada
END:VEVENT
BEGIN:VEVENT
DTSTART;TZID=America/Halifax:20250307T190000
DTEND;TZID=America/Halifax:20250307T210000
DTSTAMP:20260423T100607
CREATED:20250205T131332Z
LAST-MODIFIED:20250205T132229Z
UID:5305-1741374000-1741381200@djseith.com
SUMMARY:True Taxi In Gentle Rain Release Party
DESCRIPTION:In celebration of the new release.  The new album produced by DJ Seith is his most ambitious one yet. a story rap album sampled primarily from one jazz record\, released on a cassette tape that turns into a taxicab.  Plus\, a limited-run companion colouring book by MyColourfulMesses. Come out and help your kinfolk launch it proper.
URL:https://djseith.com/event/true-taxi-in-gentle-rain-release-party-03-07/
LOCATION:Mane St. Cafe\, 626 Queen St E\, Sault Ste. Marie\, Ontario\, P6A 2A4\, Canada
END:VEVENT
BEGIN:VEVENT
DTSTART;TZID=America/New_York:20250211T200000
DTEND;TZID=America/New_York:20250211T210000
DTSTAMP:20260423T100607
CREATED:20250204T163836Z
LAST-MODIFIED:20250204T163836Z
UID:5301-1739304000-1739307600@djseith.com
SUMMARY:RAPP BNGO Bon Soo 2025
DESCRIPTION:
URL:https://djseith.com/event/rapp-bngo-bon-soo-2025/
LOCATION:Sault Ste. Marie Museum\, 690 Queen St. E\, Sault Ste. Marie\, Ontario\, P6A2A4\, Canada
END:VEVENT
BEGIN:VEVENT
DTSTART;TZID=America/Halifax:20240921T180000
DTEND;TZID=America/Halifax:20240921T223000
DTSTAMP:20260423T100607
CREATED:20240910T191905Z
LAST-MODIFIED:20240910T193025Z
UID:4409-1726941600-1726957800@djseith.com
SUMMARY:Planet Rock at VIVID Arts Fest
DESCRIPTION:  \nPlanet Rock returns to Sault Ste. Marie on September 21st\, 2024 at VIVID Arts Festival\, live and direct at the Downtown Plaza with special guests Fresh Kils\, Oh Zee\, Bold Noize\, Johnny Bizness\, Skeletune\, and Mickey O’Brien.  63 Brock St. in Sault Ste. Marie.  Soo York City stand up! \nSkeletune 6 p.m.\nBold Noize 7 p.m.\nPlanet Rock 8 p.m.\nOh Zee 9 p.m.\nJohnny Bizness 9:40 p.m.\nMickey O’Brien 10:15 p.m.
URL:https://djseith.com/event/2024-09-21-planet-rock-at-vivid-arts-fest/
LOCATION:SSM Downtown Plaza\, 63 Brock St.\, Sault Ste. Marie\, ON\, P6A3B4\, Canada
END:VEVENT
BEGIN:VEVENT
DTSTART;TZID=America/Halifax:20240420T190000
DTEND;TZID=America/Halifax:20240420T220000
DTSTAMP:20260423T100607
CREATED:20240408T000459Z
LAST-MODIFIED:20240408T004702Z
UID:4226-1713639600-1713650400@djseith.com
SUMMARY:Vinyl Listening Party
DESCRIPTION:Come to the Vinyl Listening Party on April 20th\, 2024\, at The Rad Zone in Sault Ste. Marie\, ON. \nFrom 7PM to 10PM. \nFree to attend\, bring records and share them. \nDonations always welcome. \n 
URL:https://djseith.com/event/vinyl-listening-party-april-2024/
LOCATION:Rad Zone\, 721 Queen St. E\, Sault Ste. Marie\, Ontario\, P6A2A8\, Canada
END:VEVENT
BEGIN:VEVENT
DTSTART;TZID=America/Halifax:20240317T180000
DTEND;TZID=America/Halifax:20240317T210000
DTSTAMP:20260423T100607
CREATED:20240303T225919Z
LAST-MODIFIED:20240307T003431Z
UID:4203-1710698400-1710709200@djseith.com
SUMMARY:Distraction with HA!LS
DESCRIPTION:Catch the kid on the twoes and ‘onnes with friends of distinction HA!LS \nThe Distraction is at 72 East Street. \nMarch 17th\, 2024\, doors at six PM \n5 $ or donation \nAyos and whatups provided at venue \nAll-ages
URL:https://djseith.com/event/2024-03-03-distraction-with-hals/
LOCATION:The Distraction\, 72 East St.\, Sault Ste. Marie\, Ontario\, P6A3C5\, Canada
END:VEVENT
BEGIN:VEVENT
DTSTART;TZID=America/Halifax:20240209T190000
DTEND;TZID=America/Halifax:20240209T213000
DTSTAMP:20260423T100607
CREATED:20240120T032250Z
LAST-MODIFIED:20240120T032447Z
UID:4145-1707505200-1707514200@djseith.com
SUMMARY:DJ Seith & Sound Syndrome @ Distraction
DESCRIPTION:By Special Engagement \nDJ SEITH with the records of warmth and altitude \n&&&&& \nThe MIGHTY MIGHTY SOUND SYNDROME CREW on their own time and always on point \nAn ALL THE WAY LIVE NITE that is SURE TO EXCITE \nALL AGES WELCOME \nThe Distraction \n72 East St.\, Sault Ste. Marie\, ON \nFebruary 9th\, 2024 \nDoors open at 7PM\, music to follow shortly after \nAdmission 5$ or by donation
URL:https://djseith.com/event/2024-02-09-dj-seith-sound-syndrome-distraction/
LOCATION:The Distraction\, 72 East St.\, Sault Ste. Marie\, Ontario\, P6A3C5\, Canada
END:VEVENT
BEGIN:VEVENT
DTSTART;TZID=America/Halifax:20240205T200000
DTEND;TZID=America/Halifax:20240205T210000
DTSTAMP:20260423T100607
CREATED:20240119T022540Z
LAST-MODIFIED:20240125T005350Z
UID:4142-1707163200-1707166800@djseith.com
SUMMARY:RAPP BNGO @ Bon Soo Winter Carnival
DESCRIPTION:  \n \nRAPP BNGO comes to the Bon Soo Winter Carnival for 2024. \nRAPP BNGO is an interactive hip-hop DJ performance\, where the audience is invited to participate in a stakes-free game of RAPP BNGO.  Everyone receives a RAPP BNGO card\, containing words and phrases.  Dabbers are available at the merch table\, or bring your own!  DJ Seith mixes the records and the game is called using the song lyrics\, with calls appearing via overhead projection in real-time.  Winner of the 2022 Fringe North Fantastic Fringer Award.  Come participate in an unforgettable night of music and community\, as DJ Seith presents RAPP BNGO. \nWhere:  Sault Ste. Marie Museum\, 690 Queen St. E\nWhen:  February 5th\, 2024 @ 8PM\nAdmission:  Free with Bon Soo button or jacket tag \nDisclaimer:  This performance contains strong language.  Attendee discretion is advised. \n 
URL:https://djseith.com/event/2024-02-05-rapp-bngo-bon-soo-winter-carnival/
LOCATION:Sault Ste. Marie Museum\, 690 Queen St. E\, Sault Ste. Marie\, Ontario\, P6A2A4\, Canada
END:VEVENT
BEGIN:VEVENT
DTSTART;TZID=America/Halifax:20231124T190000
DTEND;TZID=America/Halifax:20231124T220000
DTSTAMP:20260423T100607
CREATED:20231113T154906Z
LAST-MODIFIED:20231113T164335Z
UID:4113-1700852400-1700863200@djseith.com
SUMMARY:Vinyl Listening Party
DESCRIPTION:The Vinyl Listening Party \nFriday November 24th\, 2023. \n7:00PM-10:00PM @ The Rad Zone. \n721 Queen Street East\, Sault Ste. Marie\, ON. \nBring Records To Take Turns Playing. \nAlways Free\, Accepting Donations.
URL:https://djseith.com/event/2023-11-vinyl-listening-party/
LOCATION:Rad Zone\, 721 Queen St. E\, Sault Ste. Marie\, Ontario\, P6A2A8\, Canada
END:VEVENT
BEGIN:VEVENT
DTSTART;TZID=America/Halifax:20231124T150000
DTEND;TZID=America/Halifax:20231124T180000
DTSTAMP:20260423T100607
CREATED:20231113T153712Z
LAST-MODIFIED:20231113T153747Z
UID:4107-1700838000-1700848800@djseith.com
SUMMARY:Rad Zone RSD Black Friday In-Store Performance
DESCRIPTION:RAD ZONE RSD BLACK FRIDAY \nNovember 24\, 2023 \nIn-Store DJ Performance \n3:00PM – 6:00PM \nBobby Lawn – 3:00PM – 4:30PM \nSeith – 4:30PM – 6:00PM \nFree To Attend \nVinyl Listening Party to follow from 7:00PM to 10:00PM
URL:https://djseith.com/event/2023-11-rad-zone-rsd-black-friday-in-store-performance/
LOCATION:Rad Zone\, 721 Queen St. E\, Sault Ste. Marie\, Ontario\, P6A2A8\, Canada
END:VEVENT
BEGIN:VEVENT
DTSTART;TZID=America/Halifax:20230818T200000
DTEND;TZID=America/Halifax:20230818T210000
DTSTAMP:20260423T100607
CREATED:20230717T010307Z
LAST-MODIFIED:20230717T010307Z
UID:4034-1692388800-1692392400@djseith.com
SUMMARY:RAPP BNGO
DESCRIPTION:DJ Seith presents RAPP BNGO at Sault Ste. Marie Museum in Sault Ste. Marie\, ON as part of Fringe North Festival. \nRAPP BNGO is an interactive hip-hop DJ performance\, where the audience is invited to participate in a ‘no stakes\, no prizes’ game of bingo. In place of a traditional caller calling numbers\, the calls are made by a live DJ using the words from real hip-hop records\, and audience members each receive bingo cards that contains words and lyrics from the songs. There are also optional RAPP BNGO markers on sale at the merch table. Once everyone is seated\, the game begins and the DJ begins mixing\, with the words on the cards appearing via overhead projection as they get played in real-time through the speakers. Heady beats\, sharp lyricism\, and marker ink will flow during the one-hour performance\, with short mid-point intermission. Come participate in an unforgettable night of music and community\, as DJ Seith presents RAPP BNGO. Winner of the Fringe North Fantastic Fringer Award for the Live category in 2022\, as voted on by attendees. \nDisclaimer: This performance contains strong language. Attendee discretion is advised.
URL:https://djseith.com/event/rapp-bngo-2023-08-18/
LOCATION:Sault Ste. Marie Museum\, 690 Queen St. E\, Sault Ste. Marie\, Ontario\, P6A2A4\, Canada
ORGANIZER;CN="Fringe North":MAILTO:saultfringe@gmail.com
END:VEVENT
BEGIN:VEVENT
DTSTART;TZID=America/Halifax:20230817T190000
DTEND;TZID=America/Halifax:20230817T200000
DTSTAMP:20260423T100607
CREATED:20230717T005334Z
LAST-MODIFIED:20230717T005334Z
UID:4030-1692298800-1692302400@djseith.com
SUMMARY:RAPP BNGO
DESCRIPTION:DJ Seith presents RAPP BNGO at Sault Ste. Marie Museum in Sault Ste. Marie\, ON as part of Fringe North Festival. \nRAPP BNGO is an interactive hip-hop DJ performance\, where the audience is invited to participate in a ‘no stakes\, no prizes’ game of bingo. In place of a traditional caller calling numbers\, the calls are made by a live DJ using the words from real hip-hop records\, and audience members each receive bingo cards that contains words and lyrics from the songs. There are also optional RAPP BNGO markers on sale at the merch table. Once everyone is seated\, the game begins and the DJ begins mixing\, with the words on the cards appearing via overhead projection as they get played in real-time through the speakers. Heady beats\, sharp lyricism\, and marker ink will flow during the one-hour performance\, with short mid-point intermission. Come participate in an unforgettable night of music and community\, as DJ Seith presents RAPP BNGO. Winner of the Fringe North Fantastic Fringer Award for the Live category in 2022\, as voted on by attendees. \nDisclaimer: This performance contains strong language. Attendee discretion is advised.
URL:https://djseith.com/event/rapp-bngo-2023-08-17/
LOCATION:Sault Ste. Marie Museum\, 690 Queen St. E\, Sault Ste. Marie\, Ontario\, P6A2A4\, Canada
ORGANIZER;CN="Fringe North":MAILTO:saultfringe@gmail.com
END:VEVENT
BEGIN:VEVENT
DTSTART;TZID=America/Halifax:20230812T190000
DTEND;TZID=America/Halifax:20230812T233000
DTSTAMP:20260423T100607
CREATED:20230716T220129Z
LAST-MODIFIED:20230722T164410Z
UID:4024-1691866800-1691883000@djseith.com
SUMMARY:Garbageface with DJ Seith (RAPP BNGO Set)\, Testament\, Fetch Panda\, NEWAGEHIP\, HUG MOSH
DESCRIPTION:Garbageface (doom rap from peterborough) \nDJ Seith (performing RAPP BNGO\, from sault ste. marie) \nTestament (rebel rap from toronto) \nFetch Panda (punk inspired hip-hop from outer space) \nNEWAGEHIP (experimental trap from ottawa) \nHUG MOSH (hyperpuke pop-punk from ottawa) \nSaturday\, August 12th @ Sadleir House\, 751 George St. N.\, Peterborough\, ON \nTickets $20 \nDoors @ 7
URL:https://djseith.com/event/garbageface-with-dj-seith-rapp-bngo-testament-fetch-panda-newagehip-hug-mosh/
LOCATION:Sadleir House\, 751 George St. N.\, Peterborough\, Ontario\, K9H3T2\, Canada
END:VEVENT
BEGIN:VEVENT
DTSTART;TZID=America/Halifax:20230811T200000
DTEND;TZID=America/Halifax:20230811T230000
DTSTAMP:20260423T100607
CREATED:20230716T214319Z
LAST-MODIFIED:20230722T164126Z
UID:4021-1691784000-1691794800@djseith.com
SUMMARY:Garbageface with DJ Seith\, Test Their Logik
DESCRIPTION:Garbageface (doom rap from peterborough) \nDJ Seith (all-vinyl psychedelic/breaks set from sault ste. marie) \nTest Their Logik (rebel rap from toronto) \nAugust 11th\, 2023 \nInfinity Zero House\, Barrie\, ON (ask a punk) \nTickets $10 / PWYC \nDoors @ 8
URL:https://djseith.com/event/garbageface-with-dj-seith-test-their-logik/
LOCATION:Infinity Zero House\, Barrie\, Ontario\, Canada
END:VEVENT
BEGIN:VEVENT
DTSTART;TZID=America/Halifax:20230810T200000
DTEND;TZID=America/Halifax:20230810T230000
DTSTAMP:20260423T100607
CREATED:20230716T195308Z
LAST-MODIFIED:20230722T163638Z
UID:4018-1691697600-1691708400@djseith.com
SUMMARY:Garbageface with DJ Seith\, NEWAGEHIP\, blackiivi
DESCRIPTION:Garbageface (doom rap from peterborough) \nDJ Seith (all-vinyl psychedelic dj set from sault ste. marie) \nNEWAGEHIP (experimental trap from ottawa) \nblackiivi (alt rap from ottawa) \nThursday August 10th @ Lounge 164\, Ottawa\, ON \nTickets $8 advance / $12 door \nDoors @ 8
URL:https://djseith.com/event/garbageface-with-dj-seith-newagehip-blackiivi-2023-08-10/
LOCATION:Lounge 164\, 164 Laurier Avenue West\, Ottawa\, Ontario\, K1P5J4\, Canada
END:VEVENT
BEGIN:VEVENT
DTSTART;TZID=America/Halifax:20230809T202000
DTEND;TZID=America/Halifax:20230809T212000
DTSTAMP:20260423T100607
CREATED:20230706T011959Z
LAST-MODIFIED:20230706T012104Z
UID:4010-1691612400-1691616000@djseith.com
SUMMARY:RAPP BNGO
DESCRIPTION:DJ Seith presents RAPP BNGO at Confederation Place Hotel\, Kingston Ontario as part of TKFringe Festival and the Kick & Push Festival. \nRAPP BNGO is an interactive hip-hop DJ performance\, where the audience is invited to participate in a ‘no stakes\, no prizes’ game of bingo.  In place of a traditional caller calling numbers\, the calls are made by a live DJ using the words from real hip-hop records\, and audience members each receive bingo cards that contains words and lyrics from the songs.  There are also optional RAPP BNGO markers on sale at the merch table.  Once everyone is seated\, the game begins and the DJ begins mixing\, with the words on the cards appearing via overhead projection as they get played in real-time through the speakers.  Heady beats\, sharp lyricism\, and marker ink will flow during the one-hour performance\, with short mid-point intermission.  Come participate in an unforgettable night of music and community\, as DJ Seith presents RAPP BNGO.  Winner of the Fringe North Fantastic Fringer Award for the Live category in 2022\, as voted on by attendees. \nDisclaimer:  This performance contains strong language.  Attendee discretion is advised. \nPurchase tickets here \n 
URL:https://djseith.com/event/rapp-bngo-2023-08-09/
LOCATION:Confederation Place Hotel\, Kingston\, ON\, 237 Ontario Street\, Kingston\, Ontario\, K7L2Z4\, Canada
ORGANIZER;CN="TKFringe":MAILTO:rosemary@theatrekingston.com
END:VEVENT
BEGIN:VEVENT
DTSTART;TZID=America/Halifax:20230808T152000
DTEND;TZID=America/Halifax:20230808T162000
DTSTAMP:20260423T100607
CREATED:20230706T011656Z
LAST-MODIFIED:20230716T195131Z
UID:4008-1691508000-1691511600@djseith.com
SUMMARY:RAPP BNGO
DESCRIPTION:DJ Seith presents RAPP BNGO at Confederation Place Hotel\, Kingston Ontario as part of TKFringe Festival and the Kick & Push Festival. \nRAPP BNGO is an interactive hip-hop DJ performance\, where the audience is invited to participate in a ‘no stakes\, no prizes’ game of bingo.  In place of a traditional caller calling numbers\, the calls are made by a live DJ using the words from real hip-hop records\, and audience members each receive bingo cards that contains words and lyrics from the songs.  There are also optional RAPP BNGO markers on sale at the merch table.  Once everyone is seated\, the game begins and the DJ begins mixing\, with the words on the cards appearing via overhead projection as they get played in real-time through the speakers.  Heady beats\, sharp lyricism\, and marker ink will flow during the one-hour performance\, with short mid-point intermission.  Come participate in an unforgettable night of music and community\, as DJ Seith presents RAPP BNGO.  Winner of the Fringe North Fantastic Fringer Award for the Live category in 2022\, as voted on by attendees. \nDisclaimer:  This performance contains strong language.  Attendee discretion is advised. \nPurchase tickets here \n 
URL:https://djseith.com/event/rapp-bngo-2023-08-08/
LOCATION:Confederation Place Hotel\, Kingston\, ON\, 237 Ontario Street\, Kingston\, Ontario\, K7L2Z4\, Canada
ORGANIZER;CN="TKFringe":MAILTO:rosemary@theatrekingston.com
END:VEVENT
BEGIN:VEVENT
DTSTART;TZID=America/Halifax:20230807T172000
DTEND;TZID=America/Halifax:20230807T182000
DTSTAMP:20260423T100607
CREATED:20230706T011224Z
LAST-MODIFIED:20230706T011700Z
UID:4003-1691428800-1691432400@djseith.com
SUMMARY:RAPP BNGO
DESCRIPTION:DJ Seith presents RAPP BNGO at Confederation Place Hotel\, Kingston Ontario as part of TKFringe Festival and the Kick & Push Festival. \nRAPP BNGO is an interactive hip-hop DJ performance\, where the audience is invited to participate in a ‘no stakes\, no prizes’ game of bingo.  In place of a traditional caller calling numbers\, the calls are made by a live DJ using the words from real hip-hop records\, and audience members each receive bingo cards that contains words and lyrics from the songs.  There are also optional RAPP BNGO markers on sale at the merch table.  Once everyone is seated\, the game begins and the DJ begins mixing\, with the words on the cards appearing via overhead projection as they get played in real-time through the speakers.  Heady beats\, sharp lyricism\, and marker ink will flow during the one-hour performance\, with short mid-point intermission.  Come participate in an unforgettable night of music and community\, as DJ Seith presents RAPP BNGO.  Winner of the Fringe North Fantastic Fringer Award for the Live category in 2022\, as voted on by attendees. \nDisclaimer:  This performance contains strong language.  Attendee discretion is advised. \nPurchase tickets here \n 
URL:https://djseith.com/event/rapp-bngo-2023-08-07/
LOCATION:Confederation Place Hotel\, Kingston\, ON\, 237 Ontario Street\, Kingston\, Ontario\, K7L2Z4\, Canada
ORGANIZER;CN="TKFringe":MAILTO:rosemary@theatrekingston.com
END:VEVENT
BEGIN:VEVENT
DTSTART;TZID=America/Halifax:20230806T200000
DTEND;TZID=America/Halifax:20230806T210000
DTSTAMP:20260423T100607
CREATED:20230706T003742Z
LAST-MODIFIED:20230706T011301Z
UID:3985-1691352000-1691355600@djseith.com
SUMMARY:RAPP BNGO
DESCRIPTION:DJ Seith presents RAPP BNGO at Confederation Place Hotel\, Kingston Ontario as part of TKFringe Festival and the Kick & Push Festival. \nRAPP BNGO is an interactive hip-hop DJ performance\, where the audience is invited to participate in a ‘no stakes\, no prizes’ game of bingo.  In place of a traditional caller calling numbers\, the calls are made by a live DJ using the words from real hip-hop records\, and audience members each receive bingo cards that contains words and lyrics from the songs.  There are also optional RAPP BNGO markers on sale at the merch table.  Once everyone is seated\, the game begins and the DJ begins mixing\, with the words on the cards appearing via overhead projection as they get played in real-time through the speakers.  Heady beats\, sharp lyricism\, and marker ink will flow during the one-hour performance\, with short mid-point intermission.  Come participate in an unforgettable night of music and community\, as DJ Seith presents RAPP BNGO.  Winner of the Fringe North Fantastic Fringer Award for the Live category in 2022\, as voted on by attendees. \nDisclaimer:  This performance contains strong language.  Attendee discretion is advised. \nPurchase tickets here \n 
URL:https://djseith.com/event/rapp-bngo-2023-08-06/
LOCATION:Confederation Place Hotel\, Kingston\, ON\, 237 Ontario Street\, Kingston\, Ontario\, K7L2Z4\, Canada
ORGANIZER;CN="TKFringe":MAILTO:rosemary@theatrekingston.com
END:VEVENT
BEGIN:VEVENT
DTSTART;TZID=America/Halifax:20230722T160000
DTEND;TZID=America/Halifax:20230723T110000
DTSTAMP:20260423T100607
CREATED:20230706T010700Z
LAST-MODIFIED:20230706T010700Z
UID:3994-1690041600-1690110000@djseith.com
SUMMARY:Planet Rock\, Downtown Leeburn\, ON
DESCRIPTION:Planet Rock plays the Church.  If you know\, you know. \nBAND LIST: \nBear Hunters \nHandsome Sandwich \nA Dire Setback \nHails \nSkinbox \nLime \nCouch Crusades \nShrugsby \n  \n 
URL:https://djseith.com/event/planet-rock-downtown-leeburn-on/
LOCATION:Church Of Robbie\, Downtown Leeburn\, Leeburn\, Ontario\, Canada
ORGANIZER;CN="Johnny Belanger":MAILTO:santo.belanger@gmail.com
END:VEVENT
BEGIN:VEVENT
DTSTART;TZID=America/Halifax:20230707T200000
DTEND;TZID=America/Halifax:20230707T210000
DTSTAMP:20260423T100607
CREATED:20230603T174347Z
LAST-MODIFIED:20230603T175319Z
UID:3932-1688760000-1688763600@djseith.com
SUMMARY:RAPP BNGO @ Johnson Township Community Days
DESCRIPTION:  \n \nCome play RAPP BNGO @ Johnson Township Community Days.  Admission is free as part of the larger event\, and we will have RAPP BNGO dabbers and cassettes for sale.  See you there!
URL:https://djseith.com/event/rapp-bngo-johnson-township-community-days/
LOCATION:Johnson Township Community Centre\, 1 Cameron Dr.\, Desbarats\, Ontario\, P0R1E0\, Canada
END:VEVENT
BEGIN:VEVENT
DTSTART;TZID=America/Halifax:20230616T130000
DTEND;TZID=America/Halifax:20230616T140000
DTSTAMP:20260423T100607
CREATED:20230603T193651Z
LAST-MODIFIED:20230603T193704Z
UID:3962-1686920400-1686924000@djseith.com
SUMMARY:Old School DJ'ing 101 Workshop
DESCRIPTION:Join DJ Seith as he shares the ins and outs of DJing with turntables and the creative process. \nSign up:  CLICK HERE
URL:https://djseith.com/event/old-school-djing-101-workshop/
LOCATION:The Loft\, 75 Huron Street\, Sault Ste. Marie\, Ontario\, Canada
END:VEVENT
BEGIN:VEVENT
DTSTART;TZID=America/Halifax:20230615T200000
DTEND;TZID=America/Halifax:20230616T200000
DTSTAMP:20260423T100607
CREATED:20230603T175218Z
LAST-MODIFIED:20230603T175344Z
UID:3945-1686859200-1686945600@djseith.com
SUMMARY:Beats + Bricks
DESCRIPTION:Beats + Bricks Street Party @ Drawing Club\, 128 Bruce Street\, Sault Ste. Marie\, ON \nFeaturing DJ Seith\, Bobby Lawn and Flummoxx. \nFunk/Soul/Breaks set by DJ Seith\, calling all breakers to the set. \nStarts at 8PM\, goes until late. \nPizza by 75 Pies\, sandwiches and refreshments by Outspoken Brewing. \nLive art displays\, dance circles\, DJs.
URL:https://djseith.com/event/beats-bricks/
LOCATION:Drawing Club\, 128 Bruce St.\, Sault Ste. Marie\, Ontario\, P6A2X7\, Canada
END:VEVENT
BEGIN:VEVENT
DTSTART;TZID=America/Halifax:20230609T200000
DTEND;TZID=America/Halifax:20230609T223000
DTSTAMP:20260423T100607
CREATED:20230421T113347Z
LAST-MODIFIED:20230430T212745Z
UID:3879-1686340800-1686349800@djseith.com
SUMMARY:RAPP BNGO @ Moose Lodge
DESCRIPTION:RAPP BNGO is coming to the Moose Lodge\, June 9th 2023.  Come play the first ever fusion of DJing and (stakes-free) Bingo\, where the music makes the call. \nSpecial guests: Sawbe and Stoneburgh open the night up with visionary raw rap styles straight from the dome to the stage. \n \nThen\, a short performance by Planet Rock\, bringing the emcee-deejay science of the past to the hip-hop heavies of today. \n \n\n\nFinishing the night off with a stakes-free game of RAPP BNGO\, featuring DJ Seith performing an all-vinyl set that calls a real game of stakes-free Bingo\, with the words on the cards matching up with the lyrics from the records. Winner of the Fringe North Fantastic Fringer Award in 2022\, this will be a show you do not want to miss. \n \nTickets are $20\, and are available here:  https://bit.ly/rapp-bngo-june-9
URL:https://djseith.com/event/rapp-bngo-moose-lodge/
LOCATION:Moose Lodge\, 543 Trunk Rd.\, Sault Ste. Marie\, Ontario\, P6A1W9\, Canada
END:VEVENT
END:VCALENDAR