BEGIN:VCALENDAR
VERSION:2.0
PRODID:-//DJ Seith - ECPv6.15.20//NONSGML v1.0//EN
CALSCALE:GREGORIAN
METHOD:PUBLISH
X-ORIGINAL-URL:https://djseith.com
X-WR-CALDESC:Events for DJ Seith
REFRESH-INTERVAL;VALUE=DURATION:PT1H
X-Robots-Tag:noindex
X-PUBLISHED-TTL:PT1H
BEGIN:VTIMEZONE
TZID:America/Halifax
BEGIN:DAYLIGHT
TZOFFSETFROM:-0400
TZOFFSETTO:-0300
TZNAME:ADT
DTSTART:20220313T060000
END:DAYLIGHT
BEGIN:STANDARD
TZOFFSETFROM:-0300
TZOFFSETTO:-0400
TZNAME:AST
DTSTART:20221106T050000
END:STANDARD
BEGIN:DAYLIGHT
TZOFFSETFROM:-0400
TZOFFSETTO:-0300
TZNAME:ADT
DTSTART:20230312T060000
END:DAYLIGHT
BEGIN:STANDARD
TZOFFSETFROM:-0300
TZOFFSETTO:-0400
TZNAME:AST
DTSTART:20231105T050000
END:STANDARD
BEGIN:DAYLIGHT
TZOFFSETFROM:-0400
TZOFFSETTO:-0300
TZNAME:ADT
DTSTART:20240310T060000
END:DAYLIGHT
BEGIN:STANDARD
TZOFFSETFROM:-0300
TZOFFSETTO:-0400
TZNAME:AST
DTSTART:20241103T050000
END:STANDARD
END:VTIMEZONE
BEGIN:VEVENT
DTSTART;TZID=America/Halifax:20230707T200000
DTEND;TZID=America/Halifax:20230707T210000
DTSTAMP:20260423T125437
CREATED:20230603T174347Z
LAST-MODIFIED:20230603T175319Z
UID:3932-1688760000-1688763600@djseith.com
SUMMARY:RAPP BNGO @ Johnson Township Community Days
DESCRIPTION:  \n \nCome play RAPP BNGO @ Johnson Township Community Days.  Admission is free as part of the larger event\, and we will have RAPP BNGO dabbers and cassettes for sale.  See you there!
URL:https://djseith.com/event/rapp-bngo-johnson-township-community-days/
LOCATION:Johnson Township Community Centre\, 1 Cameron Dr.\, Desbarats\, Ontario\, P0R1E0\, Canada
END:VEVENT
BEGIN:VEVENT
DTSTART;TZID=America/Halifax:20230616T130000
DTEND;TZID=America/Halifax:20230616T140000
DTSTAMP:20260423T125437
CREATED:20230603T193651Z
LAST-MODIFIED:20230603T193704Z
UID:3962-1686920400-1686924000@djseith.com
SUMMARY:Old School DJ'ing 101 Workshop
DESCRIPTION:Join DJ Seith as he shares the ins and outs of DJing with turntables and the creative process. \nSign up:  CLICK HERE
URL:https://djseith.com/event/old-school-djing-101-workshop/
LOCATION:The Loft\, 75 Huron Street\, Sault Ste. Marie\, Ontario\, Canada
END:VEVENT
BEGIN:VEVENT
DTSTART;TZID=America/Halifax:20230615T200000
DTEND;TZID=America/Halifax:20230616T200000
DTSTAMP:20260423T125437
CREATED:20230603T175218Z
LAST-MODIFIED:20230603T175344Z
UID:3945-1686859200-1686945600@djseith.com
SUMMARY:Beats + Bricks
DESCRIPTION:Beats + Bricks Street Party @ Drawing Club\, 128 Bruce Street\, Sault Ste. Marie\, ON \nFeaturing DJ Seith\, Bobby Lawn and Flummoxx. \nFunk/Soul/Breaks set by DJ Seith\, calling all breakers to the set. \nStarts at 8PM\, goes until late. \nPizza by 75 Pies\, sandwiches and refreshments by Outspoken Brewing. \nLive art displays\, dance circles\, DJs.
URL:https://djseith.com/event/beats-bricks/
LOCATION:Drawing Club\, 128 Bruce St.\, Sault Ste. Marie\, Ontario\, P6A2X7\, Canada
END:VEVENT
BEGIN:VEVENT
DTSTART;TZID=America/Halifax:20230609T200000
DTEND;TZID=America/Halifax:20230609T223000
DTSTAMP:20260423T125437
CREATED:20230421T113347Z
LAST-MODIFIED:20230430T212745Z
UID:3879-1686340800-1686349800@djseith.com
SUMMARY:RAPP BNGO @ Moose Lodge
DESCRIPTION:RAPP BNGO is coming to the Moose Lodge\, June 9th 2023.  Come play the first ever fusion of DJing and (stakes-free) Bingo\, where the music makes the call. \nSpecial guests: Sawbe and Stoneburgh open the night up with visionary raw rap styles straight from the dome to the stage. \n \nThen\, a short performance by Planet Rock\, bringing the emcee-deejay science of the past to the hip-hop heavies of today. \n \n\n\nFinishing the night off with a stakes-free game of RAPP BNGO\, featuring DJ Seith performing an all-vinyl set that calls a real game of stakes-free Bingo\, with the words on the cards matching up with the lyrics from the records. Winner of the Fringe North Fantastic Fringer Award in 2022\, this will be a show you do not want to miss. \n \nTickets are $20\, and are available here:  https://bit.ly/rapp-bngo-june-9
URL:https://djseith.com/event/rapp-bngo-moose-lodge/
LOCATION:Moose Lodge\, 543 Trunk Rd.\, Sault Ste. Marie\, Ontario\, P6A1W9\, Canada
END:VEVENT
END:VCALENDAR